BEGIN:VCALENDAR
VERSION:2.0
PRODID:-//HN-Energie – Reiki &amp; Ausbildung in Hamburg - ECPv6.15.13//NONSGML v1.0//EN
CALSCALE:GREGORIAN
METHOD:PUBLISH
X-ORIGINAL-URL:https://hn-energie.de
X-WR-CALDESC:Veranstaltungen für HN-Energie – Reiki &amp; Ausbildung in Hamburg
REFRESH-INTERVAL;VALUE=DURATION:PT1H
X-Robots-Tag:noindex
X-PUBLISHED-TTL:PT1H
BEGIN:VTIMEZONE
TZID:Europe/Berlin
BEGIN:DAYLIGHT
TZOFFSETFROM:+0100
TZOFFSETTO:+0200
TZNAME:CEST
DTSTART:20240331T010000
END:DAYLIGHT
BEGIN:STANDARD
TZOFFSETFROM:+0200
TZOFFSETTO:+0100
TZNAME:CET
DTSTART:20241027T010000
END:STANDARD
BEGIN:DAYLIGHT
TZOFFSETFROM:+0100
TZOFFSETTO:+0200
TZNAME:CEST
DTSTART:20250330T010000
END:DAYLIGHT
BEGIN:STANDARD
TZOFFSETFROM:+0200
TZOFFSETTO:+0100
TZNAME:CET
DTSTART:20251026T010000
END:STANDARD
BEGIN:DAYLIGHT
TZOFFSETFROM:+0100
TZOFFSETTO:+0200
TZNAME:CEST
DTSTART:20260329T010000
END:DAYLIGHT
BEGIN:STANDARD
TZOFFSETFROM:+0200
TZOFFSETTO:+0100
TZNAME:CET
DTSTART:20261025T010000
END:STANDARD
END:VTIMEZONE
BEGIN:VEVENT
DTSTART;VALUE=DATE:20250215
DTEND;VALUE=DATE:20250217
DTSTAMP:20260422T055839
CREATED:20250114T134237Z
LAST-MODIFIED:20250406T142740Z
UID:2181-1739581200-1739667599@hn-energie.de
SUMMARY:Erdung und energetischer Schutz
DESCRIPTION: \n\n\n\n\n\n\nOnlineseminar: Energetischer Schutz & Erdung für mehr Balance im Alltag \nLernen Sie\, wie Sie sich im hektischen Alltag effektiv vor äußeren Einflüssen schützen und Ihre innere Balance bewahren. In diesem Onlineseminar erfahren Sie praxisnahe Methoden zur Erdung und energetischen Abgrenzung\, die Ihnen helfen\, Ihre Energie zu stärken und sich nicht von den Themen anderer Menschen mitreißen zu lassen. Schützen Sie sich vor Erschöpfung und kommen Sie zurück in Ihre Mitte – für mehr Ruhe\, Klarheit und Kraft im täglichen Leben. \nJetzt anmelden und Ihre Energie bewusst lenken!
URL:https://hn-energie.de/veranstaltung/traumatherapie-seminar/
LOCATION:Online
CATEGORIES:Coaching,Seminar
ATTACH;FMTTYPE=image/jpeg:https://hn-energie.de/wp-content/uploads/2025/01/slaapwijsheid-nl-nWt1z1Ue86k-unsplash-scaled.jpg
ORGANIZER;CN="Hendrik Neumann":MAILTO:kontakt@hn-praxis.de
END:VEVENT
END:VCALENDAR